BEGIN:VCALENDAR
VERSION:2.0
PRODID:-//wp-events-plugin.com//6.6.4.4//EN
TZID:Europe/London
X-WR-TIMEZONE:Europe/London
BEGIN:VEVENT
UID:0-820@lvo.org.uk
DTSTART;TZID=Europe/London:20251129T110000
DTEND;TZID=Europe/London:20251129T123000
DTSTAMP:20251204T204755Z
URL:https://lvo.org.uk/allfixtures/bangor-urban-25/
SUMMARY:Bangor Urban
DESCRIPTION:\n\n\nDate\nSaturday 29 November 2025\n\n\nVenue\nBangor\n\n\nE
 vent Format\nUrban\n\n\nOnline Entry\n\n\n\nSI Entries\n \n\n\nOnline Entr
 y closes\n11pm\, Tuesday 25 November 2025\n\n\nRegistration\, Start and Fi
 nish\nRegistration\, start and finish will be in the vicinity of the carpa
 rks at Seacliff Road\, Ballyholme\, Bangor\, BT20 5HT\n\n\nPrice\n\n\n\n\n
 Race Prices\nMember*\nNon-Member\n\n\nSenior (aged 21 or over)\n8\n10\n\n\
 nJunior or Student\n4\n5\n\n\nMaximum charge for a family**\n20\n25\n\n\n\
 nFor families and friends going round together\, you only need to enter on
 e name per map &amp\; SI Card is required. You can amend the “group name
 ” at Registration on the day if you want.\n\n*Member of BOF or OI Clubs 
 only.\n\n**If you are entering a family of individual runners and it comes
  to more than £20 (£25 for non-members) then please contact the organise
 r after you have paid for the individual Senior\, or Junior/Student entrie
 s and we will arrange refund of the difference. Parents accompanying child
 ren go free.\n\nSI timing card hire is free but are charged at a replaceme
 nt cost of £30 if lost.\n\n\nTerrain Summary\nUrban terrain in the town o
 f Bangor. Mostly paved surfaces\, but will include some grass.\n\n\nPrevio
 us Maps/Routegadget\n`NEW MAP!\n\n\nCourse Notes\nThe event is part of the
  2025 NI Urban League\, Details are on the competitions page of the NI Ori
 enteering website.\n\nShort – 2.1km + 20 m climb – The short course is
  the only course suitable for unaccompanied juniors under the age of 16.\n
 Medium – 5.5km + 60m climb\nLong – 7.4km + 85m climb\n\n\nFirst Aid an
 d Safety\nTake care on all roads\, use footpaths when possible. The short 
 course is suitable for Juniors as it does not involve road crossings or ar
 eas where there is likely to concerns over vehicle traffic. Due to the nat
 ure of the longer courses\, there are age restrictions in place.\n\nThere 
 will be a first aid and a qualified first aider available at registration.
  Registration is also a safe place for lost children to wait.\n\nPlease do
  not come to the event if you are unwell. Please bring and carry any medic
 ation you might need\, especially inhalers and EpiPen’s.\n\nIf you come 
 across an injured or ill person\, please stop\, help and get further help.
  There will likely be qualified first aiders on the course who can stop to
  provide support.\n\nAll participants must return to download\, whether th
 ey complete the course or not. This is to account for all competitors\, en
 suring everyone’s safe return.\n\nCourses will close and controls collec
 ted in at 3pm sharp. If you are still out on the course at this time retur
 n to finish and download immediately.\n\n\nKit requirements\nShorts and ru
 nning vests are permitted for this race. Shoes with spikes and metal dobs 
 are not allowed. It can be muddy in places and therefore shoes with some g
 rip would be appropriate.\n\n\nParking\nParking at the carparks on Seaclif
 fe Road\, Ballyholme\, BT20 5HT. As Seacliff Road is on-way\, this is best
  approached from Bangor town centre driving along the coast. By public tra
 nsport take the train to Bangor and then bus 3 to Ward Avenue.\n\n\nToilet
 s\nToilets are available at Ballyholme Green\, Ballyholme Bangor\, BT20 5L
 B\n\n\n\n&nbsp\;
CATEGORIES:NI Urban League
LOCATION:Seacliff Road\, Seacliffe Road car park\, Bangor\, Co Down\, BT20 
 5LB\, Northern Ireland
GEO:54.669943;-5.654796
X-APPLE-STRUCTURED-LOCATION;VALUE=URI;X-ADDRESS=Seacliffe Road car park\, B
 angor\, Co Down\, BT20 5LB\, Northern Ireland;X-APPLE-RADIUS=100;X-TITLE=S
 eacliff Road:geo:54.669943,-5.654796
END:VEVENT
BEGIN:VTIMEZONE
TZID:Europe/London
X-LIC-LOCATION:Europe/London
BEGIN:STANDARD
DTSTART:20251026T010000
TZOFFSETFROM:+0100
TZOFFSETTO:+0000
TZNAME:GMT
END:STANDARD
END:VTIMEZONE
END:VCALENDAR