BEGIN:VCALENDAR
VERSION:2.0
PRODID:-//wp-events-plugin.com//6.6.4.4//EN
TZID:Europe/London
X-WR-TIMEZONE:Europe/London
BEGIN:VEVENT
UID:0-267@lvo.org.uk
DTSTART;TZID=Europe/London:20190907T113000
DTEND;TZID=Europe/London:20190907T123000
DTSTAMP:20190909T183058Z
URL:https://lvo.org.uk/allfixtures/autumn-trophy-1-2/
SUMMARY:LVO AUTUMN TROPHY 1
DESCRIPTION:Don’t miss the first Autumn Trophy of 2019 at Slieve Garron t
 his Saturday\, 7th September. This event is on private farm and forestry l
 and and is a rare opportunity to see some of the most beautiful views in C
 ounty Down. Those on the green course may enjoy a stunning view towards th
 e Mourne Mountains.\n\nCourses on offer are Green\, Orange and Yellow. Thi
 s area has no paths / tracks and therefore those orienteers doing the Yell
 ow and Orange courses will have to use line features to aid navigation. Se
 e last year's event for some tips on the type of line feature you may see.
 \nRegistration\, Start Times and Closing Time\n\n 	Registration will be al
 ongside the car-park from 11:00. Allow 20 minutes to walk from registratio
 n to the start.\n 	Starts are from 11:30 to 13:00.\n 	Courses close at 15:
 00\, at which time controls will be lifted.\n\nDirections and Parking\nPar
 king is off the Clonvaraghan Road at the Seeconnell Private Home. This is 
 a private residential home and we are grateful to the management for their
  use of the car-park. Please respect their wishes to park in the zone show
 n below or as directed on the day…please keep entrances/exits clear.\n\n
 There are no toilet facilities.\n\n[caption id="attachment_5786" align="al
 ignleft" width="300"] Park in red zone[/caption]\n\n[caption id="attachmen
 t_5787" align="alignleft" width="300"] Slieve Garron - Route to Start[/cap
 tion]\nSafety\nEscape route: A road completely circumnavigates Slieve Garr
 on so in the worst case going downhill in any direction will take you to a
  road but unless there is an overriding factor escape is to the E to join 
 the road.\n\nWalk to/from the start: There will be a walk of 1km along cou
 ntry roads to/from the start. Please take care and children should be acco
 mpanied.\n\nExposed rock and steep mountain side: All courses have “clif
 fs” as features – these are generally only a couple of metres high but
  you should take care if approaching from above – go around rather than 
 over please! The green course crosses some steep mountain side but the cou
 rse has been planned to avoid the worst of this.\nPeople\n\n 	Organiser 
 – Aileen McCarron\n 	Planner – Stephen Knight\n 	Controller – Richar
 d Gamble\n
CATEGORIES:Autumn Trophy,LVO Fixtures
LOCATION:Slieve Garron\, Ardglass Rd\, Dromara\, BT31 9LT\, Northern Irelan
 d
GEO:54.31178999999999;-5.96708000000001
X-APPLE-STRUCTURED-LOCATION;VALUE=URI;X-ADDRESS=Ardglass Rd\, Dromara\, BT3
 1 9LT\, Northern Ireland;X-APPLE-RADIUS=100;X-TITLE=Slieve Garron:geo:54.3
 1178999999999,-5.96708000000001
END:VEVENT
BEGIN:VTIMEZONE
TZID:Europe/London
X-LIC-LOCATION:Europe/London
BEGIN:DAYLIGHT
DTSTART:20190331T020000
TZOFFSETFROM:+0000
TZOFFSETTO:+0100
TZNAME:BST
END:DAYLIGHT
END:VTIMEZONE
END:VCALENDAR